BEGIN:VCALENDAR
VERSION:2.0
PRODID:-//wp-events-plugin.com//7.1.7//EN
TZID:Europe/Zurich
X-WR-TIMEZONE:Europe/Zurich
BEGIN:VEVENT
UID:3@test.ape-haut-talent.ch
DTSTART;TZID=Europe/Zurich:20230513T100000
DTEND;TZID=Europe/Zurich:20230513T120000
DTSTAMP:20230601T062342Z
URL:https://test.ape-haut-talent.ch/evenements/visite-de-l-eca/
SUMMARY:Visite de l'ECA
DESCRIPTION:Retrouver les photos de l'événement en cliquant ici !\nAppliq
 uer judicieusement les principes de précaution et savoir agir avec clairv
 oyance\, c’est ce que l’on apprend de façon ludique à ECAGORA.\nLes 
 principales missions de l’ECA ? Prévenir\, secourir des vies tout en 
 réduisant l’ampleur des dommages et finalement garantir une couverture 
 des biens immobiliers et mobiliers.\nL’exposition est dédiée à la pr
 évention afin que vous sachiez comment agir lorsque chaque minute compte.
  Saviez-vous qu’un tiers des incendies est dû à de la négligence et 
 à de mauvais réflexes face au départ d’un feu ? Ne vous laissez pas
  surprendre et prenez le temps de découvrir les bons gestes à adopter. E
 ntre histoire\, témoignages et activités immersives\, vous apprendrez le
 s bons réflexes de prévention et de secours.\nPour qui ?\nLa visite est 
 prévue pour les enfants et adultes à partir de l'âge de 6 ans.\nAdresse
 \nAvenue du Grey 111\, 1018 Lausanne\n\nAccès transports publics avec les
  bus TL N°21 – Arrêt Bossons  ou TL N°87 – Arrêt Désert\nInscrip
 tion obligatoire\nLe nombre de place étant limité (15 personnes maximum)
 \, l'inscription est obligatoire. Cette activité pourrait être reconduit
 e ultérieurement en fonction de son succès.\n\nAccès aux inscriptions a
 nticipées pour les membres de l'APE Haut-Talent jusqu'au 31 mars 2023 (ve
 uillez vous connecter pour accéder à la réservation).\nPrix\nCette acti
 vité est gratuite.\nTenue vestimentaire\nMerci d'éviter de porter une ro
 be.\n\n&nbsp\;\n\n[embed]https://youtu.be/waDmXsugy-Q[/embed]
ATTACH;FMTTYPE=image/jpeg:https://test.ape-haut-talent.ch/wp-content/uploa
 ds/2023/03/ECAGORA_Glenn-Michel_2.jpeg
CATEGORIES:Activités
END:VEVENT
BEGIN:VTIMEZONE
TZID:Europe/Zurich
X-LIC-LOCATION:Europe/Zurich
BEGIN:DAYLIGHT
DTSTART:20230326T030000
TZOFFSETFROM:+0100
TZOFFSETTO:+0200
TZNAME:CEST
END:DAYLIGHT
END:VTIMEZONE
END:VCALENDAR