BEGIN:VCALENDAR
VERSION:2.0
PRODID:-//wp-events-plugin.com//7.1.7//EN
TZID:Europe/Zurich
X-WR-TIMEZONE:Europe/Zurich
BEGIN:VEVENT
UID:5@test.ape-haut-talent.ch
DTSTART;TZID=Europe/Zurich:20230513T100000
DTEND;TZID=Europe/Zurich:20230513T160000
DTSTAMP:20230414T083104Z
URL:https://test.ape-haut-talent.ch/evenements/vente-de-jouets-et-dhabits-
 pour-enfants-a-la-fete-de-mai/
SUMMARY:Vente de jouets et d'habits pour enfants à la Fête de Mai
DESCRIPTION:L’APE Le Mont est ravie de vous proposer à nouveau sa tradit
 ionnelle vente de jouets et d’habits de 2ème main le samedi 13 mai 202
 3 à la Grande Salle du Mont-sur-Lausanne.\n\n•  Dépose des article
 s : vendredi 12 mai de 18h30 à 20h\n•  Vente réservée aux membres*
  APE : samedi 13 mai de 10h à 10h30\n•  Vente publique ouverte à to
 us : samedi de 10h30 à 16h\n•  Restitution du solde et des invendus
  : samedi de 16h45 à 17h45\n\nLes articles à vendre sont à répertorie
 r sur la liste disponible ci-dessous\, dont le numéro est à obtenir par 
 mail d’ici au mercredi 10 mai à vente@apelemont.ch (deux listes par p
 ersonne présente autorisées).\nLe règlement\, des informations importa
 ntes sur les articles acceptés/refusés ainsi que des instructions sur l
 ’étiquetage sont à consulter ci-dessous. Veuillez prendre note que le
 s articles non conformes ou mal étiquetés seront refusés.\n\n 	Règleme
 nt et informations importantes\n 	Liste d’articles à imprimer\n 	Étiq
 uettes à imprimer\n\nDes questions? N’hésitez pas à nous contacter à
  vente@apelemont.ch.\nOn se réjouit de vous revoir!
ATTACH;FMTTYPE=image/jpeg:https://test.ape-haut-talent.ch/wp-content/uploa
 ds/2023/04/2023-05-vente-de-mai-flyer-11024_1.jpg
CATEGORIES:Activités
END:VEVENT
BEGIN:VTIMEZONE
TZID:Europe/Zurich
X-LIC-LOCATION:Europe/Zurich
BEGIN:DAYLIGHT
DTSTART:20230326T030000
TZOFFSETFROM:+0100
TZOFFSETTO:+0200
TZNAME:CEST
END:DAYLIGHT
END:VTIMEZONE
END:VCALENDAR