BEGIN:VCALENDAR
VERSION:2.0
PRODID:-//wp-events-plugin.com//7.1.7//EN
TZID:Europe/Zurich
X-WR-TIMEZONE:Europe/Zurich
BEGIN:VEVENT
UID:6@test.ape-haut-talent.ch
DTSTART;TZID=Europe/Zurich:20231029T093000
DTEND;TZID=Europe/Zurich:20231029T153000
DTSTAMP:20230915T182224Z
URL:https://test.ape-haut-talent.ch/evenements/grande-vente-daffaires-dhiv
 er/
SUMMARY:Grande vente d'affaires d'hiver
DESCRIPTION:L’APE Haut-Talent est heureuse de vous proposer sa grande ven
 te d’affaires d’hiver ! Préparez-vous à la saison d’hiver qui arri
 ve et venez vendre et/ou acheter les affaires de vos enfants (skis\, combi
 naisons\, etc.) !\n\nLa vente aura lieu à la Grande salle de Froideville 
 le dimanche 29 octobre 2023 ! Buvette et petite restauration seront au ren
 dez-vous !\nHoraires\n\n 	Dépose des articles : Samedi 28 octobre de 15h3
 0 à 18h*\n 	Vente membres APE ** : Dimanche 29 octobre de 9h30 à 10h30\n
  	Vente publique : Dimanche 29 octobre de 10h30 à 15h30\n 	Restitution :
  Dimanche 29 octobre de 17h30 à 18h30\n\nInformations et documents\nLes 
 articles à vendre sont à répertorier sur la liste disponible ci-dessous
 \, dont le numéro est à obtenir par mail d’ici au jeudi 26 octobre à 
 contact@ape-haut-talent.ch (deux listes par personne présente autorisées
 ).\nLe règlement\, des informations importantes sur les articles accept
 és/refusés ainsi que des instructions sur l’étiquetage sont à consul
 ter ci-dessous. Veuillez prendre note que les articles non conformes ou m
 al étiquetés seront refusés.\n\n 	Réglement et informations importante
 s\n 	Liste d'article à imprimer\n 	Etiquettes à imprimer : page 1 et pag
 e 2\n\nUniquement les paiements en cash seront acceptés.\n\nN'hésitez-pa
 s à nous contacter en cas de questions par email à contact@ape-haut-tale
 nt.ch .
ATTACH;FMTTYPE=image/jpeg:https://test.ape-haut-talent.ch/wp-content/uploa
 ds/2023/04/Firefly-sale-affaire-hiver-skis-et-luge-enfants-14674.jpg
CATEGORIES:Activités
LOCATION:Grande salle de Froideville\, Rte de Lausanne 4\, 1055 Froideville
 \, Suisse
X-APPLE-STRUCTURED-LOCATION;VALUE=URI;X-ADDRESS=Rte de Lausanne 4\, 1055 Fr
 oideville\, Suisse;X-APPLE-RADIUS=100;X-TITLE=Grande salle de Froideville:
 geo:0,0
END:VEVENT
BEGIN:VTIMEZONE
TZID:Europe/Zurich
X-LIC-LOCATION:Europe/Zurich
BEGIN:STANDARD
DTSTART:20231029T020000
TZOFFSETFROM:+0200
TZOFFSETTO:+0100
TZNAME:CET
END:STANDARD
END:VTIMEZONE
END:VCALENDAR