BEGIN:VCALENDAR
VERSION:2.0
PRODID:-//wp-events-plugin.com//7.1.7//EN
TZID:Europe/Zurich
X-WR-TIMEZONE:Europe/Zurich
BEGIN:VEVENT
UID:7@test.ape-haut-talent.ch
DTSTART;TZID=Europe/Zurich:20230608T193000
DTEND;TZID=Europe/Zurich:20230608T220000
DTSTAMP:20230515T074634Z
URL:https://test.ape-haut-talent.ch/evenements/conference-education-numeri
 que-a-lecole-pourquoi-comment-que-vont-faire-nos-enfants-en-classe/
SUMMARY:Conférence "Éducation numérique à l'école: pourquoi? comment? 
 que vont faire nos enfants en classe?"
DESCRIPTION:Conférence "Éducation numérique à l'école: pourquoi? comme
 nt? que vont faire nos enfants en classe?" le jeudi 8 juin 2023 à 19:30 
 à l'EPFL\nL’éducation au numérique se déploie progressivement dans l
 es écoles vaudoises. Mais ce sujet reste encore relativement flou pour le
 s parents et suscite de nombreuses questions et réactions.\nPour vous per
 mettre d’y voir plus clair\, nous avons le plaisir de vous proposer cett
 e conférence avec des intervenant∙e∙s de l’EPFL* et de la DGEO** ai
 nsi que des enseignant∙e∙s.\nIls aborderont les objectifs et les enjeu
 x de cet enseignement à l’école puis vous présenteront ce qui se fait
  concrètement dans les classes\, avec notamment des démonstrations des o
 utils et supports utilisés\, numériques ou non.\n\n\n​Ils répondront 
 bien évidemment aussi à vos questions et vous donneront l’occasion d
 ’expérimenter par vous-même quelques-unes des activités présentées.
 \n\nUne participation en présentiel est vivement recommandée pour une m
 eilleure expérience et interactivité.\nMais il est aussi possible de sui
 vre cette conférence par Zoom.\n\nUne inscription est nécessaire jusq
 u'au 31 mai 2023 au plus tard.\n\nCette conférence est gratuite et ouver
 te à l'ensemble des parents d'élèves vaudois.\nVous pouvez donc volonti
 ers partager cette information et en parler autour de vous!\n\nNous espér
 ons vous voir nombreuses et nombreux le 8 juin prochain!\n\n\nInscription 
 sur le site de l'APE Vaud : Cliquer ici\n&nbsp\;\n* EPFL: Ecole polytechni
 que fédérale de Lausanne\n** DGEO: Direction générale de l'enseignemen
 t obligatoire et de la pédagogie spécialisée
ATTACH;FMTTYPE=image/jpeg:https://test.ape-haut-talent.ch/wp-content/uploa
 ds/2023/05/visuel-conference-edunum-final_orig.png
CATEGORIES:Conférences
END:VEVENT
BEGIN:VTIMEZONE
TZID:Europe/Zurich
X-LIC-LOCATION:Europe/Zurich
BEGIN:DAYLIGHT
DTSTART:20230326T030000
TZOFFSETFROM:+0100
TZOFFSETTO:+0200
TZNAME:CEST
END:DAYLIGHT
END:VTIMEZONE
END:VCALENDAR