BEGIN:VCALENDAR
VERSION:2.0
PRODID:-//wp-events-plugin.com//7.1.7//EN
TZID:Europe/Zurich
X-WR-TIMEZONE:Europe/Zurich
BEGIN:VEVENT
UID:8@test.ape-haut-talent.ch
DTSTART;TZID=Europe/Zurich:20230921T200000
DTEND;TZID=Europe/Zurich:20230921T220000
DTSTAMP:20230911T211451Z
URL:https://test.ape-haut-talent.ch/evenements/assemblee-generale-ordinair
 e-2023/
SUMMARY:Assemblée générale ordinaire 2022-2023
DESCRIPTION:L’APE Haut-Talent a le plaisir de vous inviter à son assembl
 ée générale qui aura lieu le\n\nJeudi 21 septembre 2023 à 20h00 à la 
 Grande salle de Bretigny-sur-Morrens\n\nL’assemblée générale est ouve
 rte à toutes et à tous et sera suivie par un verre de l’amitié.\n\nOr
 dre du jour :\n\n 	Accueil\, liste de présence et adoption de l’ordre 
 du jour\n 	Rapport d’activités 2022-2023\n 	Rapports de la trésorière
 \n 	Rapport des vérificateurs des comptes\n 	Décharge au comité et adop
 tion des comptes\n 	Election des membres du comité 2023-2024\n 	Election 
 des vérificateurs des comptes 2023-2024\n 	Présentation du budget et des
  activités 2023-2024\n 	Divers et propositions individuelles\n\nLes propo
 sitions individuelles sont les bienvenues et doivent nous parvenir par ema
 il au moins 2 jours avant l’assemblée générale.\n\nA la suite de l’
 assemblée générale\, différents ateliers d’échanges sur des thèmes
  liés au scolaire ou parascolaire seront proposés autour d’un apériti
 f.\n\nAfin que nous puissions anticiper le nombre de participants\, il ser
 ait apprécié de bien vouloir annoncer votre présence à l’avance au m
 oyen du formulaire disponible sur notre site internet ou par email.\n\nNou
 s nous réjouissons de vous rencontrer à cette occasion.\n\nConvocation A
 G 2022-2023\n\n&nbsp\;
ATTACH;FMTTYPE=image/jpeg:https://test.ape-haut-talent.ch/wp-content/uploa
 ds/2023/08/assemblee-generale.jpg
CATEGORIES:Assemblées générales
LOCATION:Grande salle de Bretigny-sur-Morrens\, Rue du Village 1\, 1053 Bre
 tigny-sur-Morrens\, Suisse
X-APPLE-STRUCTURED-LOCATION;VALUE=URI;X-ADDRESS=Rue du Village 1\, 1053 Bre
 tigny-sur-Morrens\, Suisse;X-APPLE-RADIUS=100;X-TITLE=Grande salle de Bret
 igny-sur-Morrens:geo:0,0
END:VEVENT
BEGIN:VTIMEZONE
TZID:Europe/Zurich
X-LIC-LOCATION:Europe/Zurich
BEGIN:DAYLIGHT
DTSTART:20230326T030000
TZOFFSETFROM:+0100
TZOFFSETTO:+0200
TZNAME:CEST
END:DAYLIGHT
END:VTIMEZONE
END:VCALENDAR