BEGIN:VCALENDAR
VERSION:2.0
PRODID:-//wp-events-plugin.com//7.1.7//EN
TZID:Europe/Zurich
X-WR-TIMEZONE:Europe/Zurich
BEGIN:VEVENT
UID:2@test.ape-haut-talent.ch
DTSTART;TZID=Europe/Zurich:20221220T120000
DTEND;TZID=Europe/Zurich:20221220T140000
DTSTAMP:20221130T193738Z
URL:https://test.ape-haut-talent.ch/evenements/1er-midi-discussion-de-para
 fe/
SUMMARY:1er Midi-discussion de Parafé
DESCRIPTION:Autour d’un repas offert\, à la HEP-Vaud\, venez discuter de
  vos expériences de l’école\, du milieu de la petite enfance\, de vos 
 questionnements\, vos envies.
ATTACH;FMTTYPE=image/jpeg:https://test.ape-haut-talent.ch/wp-content/uploa
 ds/2022/11/parafe_20221220.png
CATEGORIES:Conférences
END:VEVENT
BEGIN:VTIMEZONE
TZID:Europe/Zurich
X-LIC-LOCATION:Europe/Zurich
BEGIN:STANDARD
DTSTART:20221030T020000
TZOFFSETFROM:+0200
TZOFFSETTO:+0100
TZNAME:CET
END:STANDARD
END:VTIMEZONE
END:VCALENDAR